BEGIN:VCALENDAR
VERSION:2.0
PRODID:-//Mount Cain - ECPv6.15.20//NONSGML v1.0//EN
CALSCALE:GREGORIAN
METHOD:PUBLISH
X-ORIGINAL-URL:https://www.mountcain.com
X-WR-CALDESC:Events for Mount Cain
REFRESH-INTERVAL;VALUE=DURATION:PT1H
X-Robots-Tag:noindex
X-PUBLISHED-TTL:PT1H
BEGIN:VTIMEZONE
TZID:UTC
BEGIN:STANDARD
TZOFFSETFROM:+0000
TZOFFSETTO:+0000
TZNAME:UTC
DTSTART:20250101T000000
END:STANDARD
END:VTIMEZONE
BEGIN:VEVENT
DTSTART;VALUE=DATE:20260202
DTEND;VALUE=DATE:20260203
DTSTAMP:20260423T231439
CREATED:20251212T081906Z
LAST-MODIFIED:20251212T081906Z
UID:3709-1769990400-1770076799@www.mountcain.com
SUMMARY:Seaview & A.J. Elliot School Group
DESCRIPTION:Seaview & A.J. Elliot School Group Scheduled Visit
URL:https://www.mountcain.com/event/seaview-a-j-elliot-school-group/
CATEGORIES:Operational Schedule,School Group
END:VEVENT
BEGIN:VEVENT
DTSTART;VALUE=DATE:20260209
DTEND;VALUE=DATE:20260210
DTSTAMP:20260423T231439
CREATED:20251212T081610Z
LAST-MODIFIED:20251212T083833Z
UID:3707-1770595200-1770681599@www.mountcain.com
SUMMARY:Eagleview School Group
DESCRIPTION:Eagleview School Group Scheduled Visit
URL:https://www.mountcain.com/event/eagleview-school-group/
CATEGORIES:Operational Schedule,School Group
END:VEVENT
BEGIN:VEVENT
DTSTART;VALUE=DATE:20260223
DTEND;VALUE=DATE:20260224
DTSTAMP:20260423T231439
CREATED:20251212T081445Z
LAST-MODIFIED:20251212T081445Z
UID:3705-1771804800-1771891199@www.mountcain.com
SUMMARY:GWA'SALA-'NAKWAXDA'XW & EKE-ME XI School Group
DESCRIPTION:GWA’SALA-‘NAKWAXDA’XW & EKE-ME XI School Group Scheduled Visit
URL:https://www.mountcain.com/event/gwasala-nakwaxdaxw-eke-me-xi-school-group/
CATEGORIES:Operational Schedule,School Group
END:VEVENT
END:VCALENDAR