BEGIN:VCALENDAR
VERSION:2.0
PRODID:-//Mount Cain - ECPv6.15.20//NONSGML v1.0//EN
CALSCALE:GREGORIAN
METHOD:PUBLISH
X-ORIGINAL-URL:https://www.mountcain.com
X-WR-CALDESC:Events for Mount Cain
REFRESH-INTERVAL;VALUE=DURATION:PT1H
X-Robots-Tag:noindex
X-PUBLISHED-TTL:PT1H
BEGIN:VTIMEZONE
TZID:UTC
BEGIN:STANDARD
TZOFFSETFROM:+0000
TZOFFSETTO:+0000
TZNAME:UTC
DTSTART:20250101T000000
END:STANDARD
END:VTIMEZONE
BEGIN:VEVENT
DTSTART;VALUE=DATE:20260112
DTEND;VALUE=DATE:20260113
DTSTAMP:20260424T005451
CREATED:20251212T083113Z
LAST-MODIFIED:20251212T083113Z
UID:3715-1768176000-1768262399@www.mountcain.com
SUMMARY:Sunset School Group
DESCRIPTION:Sunset School Group Scheduled Visit
URL:https://www.mountcain.com/event/sunset-school-group/
CATEGORIES:Operational Schedule,School Group
END:VEVENT
BEGIN:VEVENT
DTSTART;VALUE=DATE:20260119
DTEND;VALUE=DATE:20260120
DTSTAMP:20260424T005451
CREATED:20251212T083005Z
LAST-MODIFIED:20251212T083005Z
UID:3713-1768780800-1768867199@www.mountcain.com
SUMMARY:T-School Group
DESCRIPTION:T’lisa̱lagi’lakw School Group Scheduled Visit
URL:https://www.mountcain.com/event/t-school-group/
CATEGORIES:Operational Schedule,School Group
END:VEVENT
BEGIN:VEVENT
DTSTART;VALUE=DATE:20260126
DTEND;VALUE=DATE:20260127
DTSTAMP:20260424T005451
CREATED:20251212T082139Z
LAST-MODIFIED:20251212T082139Z
UID:3711-1769385600-1769471999@www.mountcain.com
SUMMARY:SD 84 VIW & Avalon
DESCRIPTION:School District 84 Vancouver Island West & Avalon School Group Scheduled Visit
URL:https://www.mountcain.com/event/sd-84-viw-avalon/
CATEGORIES:Operational Schedule,School Group
END:VEVENT
END:VCALENDAR