BEGIN:VCALENDAR
VERSION:2.0
PRODID:-//Mount Cain - ECPv6.15.20//NONSGML v1.0//EN
CALSCALE:GREGORIAN
METHOD:PUBLISH
X-ORIGINAL-URL:https://www.mountcain.com
X-WR-CALDESC:Events for Mount Cain
REFRESH-INTERVAL;VALUE=DURATION:PT1H
X-Robots-Tag:noindex
X-PUBLISHED-TTL:PT1H
BEGIN:VTIMEZONE
TZID:UTC
BEGIN:STANDARD
TZOFFSETFROM:+0000
TZOFFSETTO:+0000
TZNAME:UTC
DTSTART:20250101T000000
END:STANDARD
END:VTIMEZONE
BEGIN:VEVENT
DTSTART;VALUE=DATE:20260404
DTEND;VALUE=DATE:20260406
DTSTAMP:20260423T214021
CREATED:20251106T115023Z
LAST-MODIFIED:20251106T115023Z
UID:3605-1775260800-1775433599@www.mountcain.com
SUMMARY:Full Mountain Open
DESCRIPTION:12 Hours of Pain Ski Patrol Fundraiser is on Saturday the 4th
URL:https://www.mountcain.com/event/full-mountain-open-40/
CATEGORIES:Operational Schedule
END:VEVENT
END:VCALENDAR