BEGIN:VCALENDAR
VERSION:2.0
PRODID:-//Mount Cain - ECPv6.15.20//NONSGML v1.0//EN
CALSCALE:GREGORIAN
METHOD:PUBLISH
X-WR-CALNAME:Mount Cain
X-ORIGINAL-URL:https://www.mountcain.com
X-WR-CALDESC:Events for Mount Cain
REFRESH-INTERVAL;VALUE=DURATION:PT1H
X-Robots-Tag:noindex
X-PUBLISHED-TTL:PT1H
BEGIN:VTIMEZONE
TZID:UTC
BEGIN:STANDARD
TZOFFSETFROM:+0000
TZOFFSETTO:+0000
TZNAME:UTC
DTSTART:20250101T000000
END:STANDARD
END:VTIMEZONE
BEGIN:VEVENT
DTSTART;VALUE=DATE:20260228
DTEND;VALUE=DATE:20260302
DTSTAMP:20260423T213328
CREATED:20251106T112638Z
LAST-MODIFIED:20260218T211628Z
UID:3579-1772236800-1772409599@www.mountcain.com
SUMMARY:Full Mountain Tentatively Open
DESCRIPTION:Snow dependant resumed operations
URL:https://www.mountcain.com/event/full-mountain-open-35/
CATEGORIES:Operational Schedule
END:VEVENT
BEGIN:VEVENT
DTSTART;VALUE=DATE:20260302
DTEND;VALUE=DATE:20260303
DTSTAMP:20260423T213328
CREATED:20251212T081057Z
LAST-MODIFIED:20251212T081121Z
UID:3703-1772409600-1772495999@www.mountcain.com
SUMMARY:Fort Rupert & Wagalus School Group
DESCRIPTION:Fort Rupert & Wagalus School Group scheduled Visit
URL:https://www.mountcain.com/event/fort-rupert-wagalus-school-group/
CATEGORIES:Operational Schedule,School Group
END:VEVENT
BEGIN:VEVENT
DTSTART;VALUE=DATE:20260302
DTEND;VALUE=DATE:20260303
DTSTAMP:20260423T213328
CREATED:20251106T112730Z
LAST-MODIFIED:20251106T112730Z
UID:3581-1772409600-1772495999@www.mountcain.com
SUMMARY:Magic Monday Half Mountain
DESCRIPTION:
URL:https://www.mountcain.com/event/magic-monday-half-mountain-5/
CATEGORIES:Operational Schedule
END:VEVENT
BEGIN:VEVENT
DTSTART;VALUE=DATE:20260307
DTEND;VALUE=DATE:20260309
DTSTAMP:20260423T213328
CREATED:20251106T112855Z
LAST-MODIFIED:20251106T112855Z
UID:3583-1772841600-1773014399@www.mountcain.com
SUMMARY:Full Mountain Open
DESCRIPTION:Viking Fest is on Saturday the 7th
URL:https://www.mountcain.com/event/full-mountain-open-36/
CATEGORIES:Operational Schedule
END:VEVENT
BEGIN:VEVENT
DTSTART;VALUE=DATE:20260309
DTEND;VALUE=DATE:20260310
DTSTAMP:20260423T213328
CREATED:20251106T112936Z
LAST-MODIFIED:20251106T112936Z
UID:3585-1773014400-1773100799@www.mountcain.com
SUMMARY:Magic Monday Half Mountain
DESCRIPTION:
URL:https://www.mountcain.com/event/magic-monday-half-mountain-6/
CATEGORIES:Operational Schedule
END:VEVENT
BEGIN:VEVENT
DTSTART;VALUE=DATE:20260309
DTEND;VALUE=DATE:20260310
DTSTAMP:20260423T213328
CREATED:20251212T080849Z
LAST-MODIFIED:20251212T080849Z
UID:3701-1773014400-1773100799@www.mountcain.com
SUMMARY:NISS School Group
DESCRIPTION:North Island Secondary School Scheduled Visit
URL:https://www.mountcain.com/event/niss-school-group/
CATEGORIES:Operational Schedule,School Group
END:VEVENT
BEGIN:VEVENT
DTSTART;VALUE=DATE:20260314
DTEND;VALUE=DATE:20260316
DTSTAMP:20260423T213328
CREATED:20251106T113138Z
LAST-MODIFIED:20251106T113138Z
UID:3587-1773446400-1773619199@www.mountcain.com
SUMMARY:Full Mountain Open
DESCRIPTION:First Weekend of Spring Break (SD85)
URL:https://www.mountcain.com/event/full-mountain-open-37/
CATEGORIES:Operational Schedule
END:VEVENT
BEGIN:VEVENT
DTSTART;VALUE=DATE:20260316
DTEND;VALUE=DATE:20260317
DTSTAMP:20260423T213328
CREATED:20251106T113303Z
LAST-MODIFIED:20251106T113303Z
UID:3589-1773619200-1773705599@www.mountcain.com
SUMMARY:Full Mountain Magic Monday
DESCRIPTION:Spring Break (SD85) Full Mountain Open
URL:https://www.mountcain.com/event/full-mountain-magic-monday/
CATEGORIES:Operational Schedule
END:VEVENT
BEGIN:VEVENT
DTSTART;VALUE=DATE:20260321
DTEND;VALUE=DATE:20260323
DTSTAMP:20260423T213328
CREATED:20251106T113535Z
LAST-MODIFIED:20260121T023333Z
UID:3591-1774051200-1774223999@www.mountcain.com
SUMMARY:Full Mountain Open
DESCRIPTION:Kids Fest Saturday the 21st. Full mountain operations
URL:https://www.mountcain.com/event/full-mountain-open-38/
CATEGORIES:Operational Schedule
END:VEVENT
BEGIN:VEVENT
DTSTART;VALUE=DATE:20260323
DTEND;VALUE=DATE:20260328
DTSTAMP:20260423T213328
CREATED:20251106T113956Z
LAST-MODIFIED:20251106T113956Z
UID:3595-1774224000-1774655999@www.mountcain.com
SUMMARY:Spring Break Full Mountain Open
DESCRIPTION:Spring Break (SD85) full mountain open all week
URL:https://www.mountcain.com/event/spring-break-full-mountain-open/
CATEGORIES:Operational Schedule
END:VEVENT
BEGIN:VEVENT
DTSTART;VALUE=DATE:20260328
DTEND;VALUE=DATE:20260330
DTSTAMP:20260423T213328
CREATED:20251106T114156Z
LAST-MODIFIED:20260121T023135Z
UID:3597-1774656000-1774828799@www.mountcain.com
SUMMARY:Full Mountain Open
DESCRIPTION:Last weekend of Spring Break (SD85). Big Wave Banked Slalom on Saturday 28th
URL:https://www.mountcain.com/event/full-mountain-open-39/
CATEGORIES:Operational Schedule
END:VEVENT
BEGIN:VEVENT
DTSTART;VALUE=DATE:20260330
DTEND;VALUE=DATE:20260331
DTSTAMP:20260423T213328
CREATED:20251106T114453Z
LAST-MODIFIED:20251106T114453Z
UID:3601-1774828800-1774915199@www.mountcain.com
SUMMARY:Magic Mountain Half Mountain
DESCRIPTION:
URL:https://www.mountcain.com/event/magic-mountain-half-mountain-2/
CATEGORIES:Operational Schedule
END:VEVENT
BEGIN:VEVENT
DTSTART;VALUE=DATE:20260330
DTEND;VALUE=DATE:20260331
DTSTAMP:20260423T213328
CREATED:20251212T080709Z
LAST-MODIFIED:20251212T080709Z
UID:3699-1774828800-1774915199@www.mountcain.com
SUMMARY:PHSS School Group
DESCRIPTION:Port Hardy Secondary School Group Scheduled Visit
URL:https://www.mountcain.com/event/phss-school-group/
CATEGORIES:Operational Schedule,School Group
END:VEVENT
END:VCALENDAR