BEGIN:VCALENDAR
VERSION:2.0
PRODID:-//Mount Cain - ECPv6.15.20//NONSGML v1.0//EN
CALSCALE:GREGORIAN
METHOD:PUBLISH
X-WR-CALNAME:Mount Cain
X-ORIGINAL-URL:https://www.mountcain.com
X-WR-CALDESC:Events for Mount Cain
REFRESH-INTERVAL;VALUE=DURATION:PT1H
X-Robots-Tag:noindex
X-PUBLISHED-TTL:PT1H
BEGIN:VTIMEZONE
TZID:UTC
BEGIN:STANDARD
TZOFFSETFROM:+0000
TZOFFSETTO:+0000
TZNAME:UTC
DTSTART:20240101T000000
END:STANDARD
END:VTIMEZONE
BEGIN:VEVENT
DTSTART;VALUE=DATE:20260412
DTEND;VALUE=DATE:20260413
DTSTAMP:20260423T203641
CREATED:20251011T074327Z
LAST-MODIFIED:20251106T110920Z
UID:3449-1775952000-1776038399@www.mountcain.com
SUMMARY:Staff Appreciation Day
DESCRIPTION:Staff and Volunteers ski and mountain clean up. Thankyou! See you next season 🤗
URL:https://www.mountcain.com/event/staff-appreciation-day/
CATEGORIES:Annual Events,Operational Schedule
END:VEVENT
BEGIN:VEVENT
DTSTART;VALUE=DATE:20260411
DTEND;VALUE=DATE:20260412
DTSTAMP:20260423T203641
CREATED:20251011T073934Z
LAST-MODIFIED:20251106T110933Z
UID:3447-1775865600-1775951999@www.mountcain.com
SUMMARY:Closing Day Full Mountain
DESCRIPTION:Staff Dinner
URL:https://www.mountcain.com/event/closing-day-full-mountain/
CATEGORIES:Annual Events,Operational Schedule
END:VEVENT
BEGIN:VEVENT
DTSTART;VALUE=DATE:20260404
DTEND;VALUE=DATE:20260405
DTSTAMP:20260423T203641
CREATED:20251011T073702Z
LAST-MODIFIED:20251106T110321Z
UID:3445-1775260800-1775347199@www.mountcain.com
SUMMARY:12 Hours Of Pain!
DESCRIPTION:The 2nd Annual 12 Hours of Pain fund raising for Ski Patrol\, how many laps of Cain can your body or more specifically your feet fit into twelve hours? 😱
URL:https://www.mountcain.com/event/12-hours-of-pain/
CATEGORIES:Annual Events
END:VEVENT
BEGIN:VEVENT
DTSTART;VALUE=DATE:20260328
DTEND;VALUE=DATE:20260329
DTSTAMP:20260423T203641
CREATED:20251106T113748Z
LAST-MODIFIED:20260121T023000Z
UID:3593-1774656000-1774742399@www.mountcain.com
SUMMARY:Big Wave Banked Slalom
DESCRIPTION:Bring your beach theme and boogie on down the Big Wave Banks
URL:https://www.mountcain.com/event/big-wave-banked-slalom/
CATEGORIES:Annual Events
END:VEVENT
BEGIN:VEVENT
DTSTART;VALUE=DATE:20260321
DTEND;VALUE=DATE:20260322
DTSTAMP:20260423T203641
CREATED:20251011T072931Z
LAST-MODIFIED:20251106T110441Z
UID:3443-1774051200-1774137599@www.mountcain.com
SUMMARY:Kids Fest
DESCRIPTION:Its Spring Break and what better way to spread some smiles on the young ones faces than a day packed full of fun on Cain! A family day for the kids 👨‍👩‍👧‍👦
URL:https://www.mountcain.com/event/kids-fest/
CATEGORIES:Annual Events
END:VEVENT
BEGIN:VEVENT
DTSTART;VALUE=DATE:20260307
DTEND;VALUE=DATE:20260308
DTSTAMP:20260423T203641
CREATED:20251011T072407Z
LAST-MODIFIED:20260218T205536Z
UID:3441-1772841600-1772927999@www.mountcain.com
SUMMARY:Viking Backcountry Fest
DESCRIPTION:Free those heels\, unfurl that fur\, bring your best tug of war cry to the halls of Valhalla! We celebrate everything Norse and Backcountry related 🎿 with most of the Backcountry planning being combined into Viking fest
URL:https://www.mountcain.com/event/viking-fest-2/
CATEGORIES:Annual Events
END:VEVENT
BEGIN:VEVENT
DTSTART;VALUE=DATE:20260216
DTEND;VALUE=DATE:20260217
DTSTAMP:20260423T203641
CREATED:20251106T111803Z
LAST-MODIFIED:20260218T204440Z
UID:3570-1771200000-1771286399@www.mountcain.com
SUMMARY:Family Day Operations Paused
DESCRIPTION:Family Day Stat Holiday operations paused due to low snow
URL:https://www.mountcain.com/event/family-day-full-mountain-monday/
CATEGORIES:Annual Events,Operational Schedule
END:VEVENT
BEGIN:VEVENT
DTSTART;VALUE=DATE:20260207
DTEND;VALUE=DATE:20260208
DTSTAMP:20260423T203641
CREATED:20251011T071422Z
LAST-MODIFIED:20260218T205020Z
UID:3439-1770422400-1770508799@www.mountcain.com
SUMMARY:Backcountry Fest Postponed
DESCRIPTION:March 7th is the tentative second chance to learn\, hone those skills\, build community and boogie on down like a Viking at Backcountry Viking Fest 💃🕺
URL:https://www.mountcain.com/event/backcountry-fest/
CATEGORIES:Annual Events
END:VEVENT
BEGIN:VEVENT
DTSTART;VALUE=DATE:20260117
DTEND;VALUE=DATE:20260118
DTSTAMP:20260423T203641
CREATED:20251011T070737Z
LAST-MODIFIED:20251106T110640Z
UID:3437-1768608000-1768694399@www.mountcain.com
SUMMARY:Cain Cup
DESCRIPTION:Come take on the gates for your chance to be crowned fastest Tele skier or King and Queen of Cain! (you decide which title is more coveted) ⛷️
URL:https://www.mountcain.com/event/cain-cup-2/
CATEGORIES:Annual Events
END:VEVENT
BEGIN:VEVENT
DTSTART;TZID=UTC:20251105T180000
DTEND;TZID=UTC:20251105T180000
DTSTAMP:20260423T203641
CREATED:20251011T062556Z
LAST-MODIFIED:20251212T083623Z
UID:3423-1762365600-1762365600@www.mountcain.com
SUMMARY:Accommodation Bookings Open
DESCRIPTION:At 6pm accommodation bookings for all mountain accommodations open for the season\, except the Mount Cain Lodge Hostel rooms. Set your reminders!
URL:https://www.mountcain.com/event/accommodation-bookings-open/
CATEGORIES:Accommodation Opening,Annual Events
END:VEVENT
END:VCALENDAR