BEGIN:VCALENDAR
VERSION:2.0
PRODID:-//Mount Cain - ECPv6.15.20//NONSGML v1.0//EN
CALSCALE:GREGORIAN
METHOD:PUBLISH
X-ORIGINAL-URL:https://www.mountcain.com
X-WR-CALDESC:Events for Mount Cain
REFRESH-INTERVAL;VALUE=DURATION:PT1H
X-Robots-Tag:noindex
X-PUBLISHED-TTL:PT1H
BEGIN:VTIMEZONE
TZID:UTC
BEGIN:STANDARD
TZOFFSETFROM:+0000
TZOFFSETTO:+0000
TZNAME:UTC
DTSTART:20250101T000000
END:STANDARD
END:VTIMEZONE
BEGIN:VEVENT
DTSTART;VALUE=DATE:20260207
DTEND;VALUE=DATE:20260209
DTSTAMP:20260423T205309
CREATED:20251106T111342Z
LAST-MODIFIED:20251106T111342Z
UID:3564-1770422400-1770595199@www.mountcain.com
SUMMARY:Full Mountain Open
DESCRIPTION:Saturday 7th is Backcountry Fest!
URL:https://www.mountcain.com/event/full-mountain-open-32/
CATEGORIES:Operational Schedule
END:VEVENT
END:VCALENDAR