BEGIN:VCALENDAR
VERSION:2.0
PRODID:-//Mount Cain - ECPv6.15.20//NONSGML v1.0//EN
CALSCALE:GREGORIAN
METHOD:PUBLISH
X-WR-CALNAME:Mount Cain
X-ORIGINAL-URL:https://www.mountcain.com
X-WR-CALDESC:Events for Mount Cain
REFRESH-INTERVAL;VALUE=DURATION:PT1H
X-Robots-Tag:noindex
X-PUBLISHED-TTL:PT1H
BEGIN:VTIMEZONE
TZID:UTC
BEGIN:STANDARD
TZOFFSETFROM:+0000
TZOFFSETTO:+0000
TZNAME:UTC
DTSTART:20250101T000000
END:STANDARD
END:VTIMEZONE
BEGIN:VEVENT
DTSTART;VALUE=DATE:20260131
DTEND;VALUE=DATE:20260202
DTSTAMP:20260423T221739
CREATED:20251106T105656Z
LAST-MODIFIED:20260129T004845Z
UID:3559-1769817600-1769990399@www.mountcain.com
SUMMARY:Operations paused
DESCRIPTION:Due to low snow
URL:https://www.mountcain.com/event/full-mountain-open-31/
CATEGORIES:Operational Schedule
END:VEVENT
BEGIN:VEVENT
DTSTART;TZID=UTC:20260131T160000
DTEND;TZID=UTC:20260131T180000
DTSTAMP:20260423T221739
CREATED:20251106T095236Z
LAST-MODIFIED:20251106T105746Z
UID:3555-1769875200-1769882400@www.mountcain.com
SUMMARY:Board Meeting
DESCRIPTION:January Board Meeting on Mountain
URL:https://www.mountcain.com/event/board-meeting/
CATEGORIES:Board Meetings
END:VEVENT
END:VCALENDAR