BEGIN:VCALENDAR
VERSION:2.0
PRODID:-//Mount Cain - ECPv6.15.20//NONSGML v1.0//EN
CALSCALE:GREGORIAN
METHOD:PUBLISH
X-WR-CALNAME:Mount Cain
X-ORIGINAL-URL:https://www.mountcain.com
X-WR-CALDESC:Events for Mount Cain
REFRESH-INTERVAL;VALUE=DURATION:PT1H
X-Robots-Tag:noindex
X-PUBLISHED-TTL:PT1H
BEGIN:VTIMEZONE
TZID:UTC
BEGIN:STANDARD
TZOFFSETFROM:+0000
TZOFFSETTO:+0000
TZNAME:UTC
DTSTART:20250101T000000
END:STANDARD
END:VTIMEZONE
BEGIN:VEVENT
DTSTART;VALUE=DATE:20260124
DTEND;VALUE=DATE:20260126
DTSTAMP:20260423T221737
CREATED:20251106T094701Z
LAST-MODIFIED:20260122T152508Z
UID:3551-1769212800-1769385599@www.mountcain.com
SUMMARY:Full Mountain Operations paused
DESCRIPTION:Low snow has meant we have had to suspend operations until more snow falls
URL:https://www.mountcain.com/event/full-mountain-open-30/
CATEGORIES:Operational Schedule
END:VEVENT
END:VCALENDAR