BEGIN:VCALENDAR
VERSION:2.0
PRODID:-//Mount Cain - ECPv6.15.20//NONSGML v1.0//EN
CALSCALE:GREGORIAN
METHOD:PUBLISH
X-WR-CALNAME:Mount Cain
X-ORIGINAL-URL:https://www.mountcain.com
X-WR-CALDESC:Events for Mount Cain
REFRESH-INTERVAL;VALUE=DURATION:PT1H
X-Robots-Tag:noindex
X-PUBLISHED-TTL:PT1H
BEGIN:VTIMEZONE
TZID:UTC
BEGIN:STANDARD
TZOFFSETFROM:+0000
TZOFFSETTO:+0000
TZNAME:UTC
DTSTART:20240101T000000
END:STANDARD
END:VTIMEZONE
BEGIN:VEVENT
DTSTART;TZID=UTC:20251204T180000
DTEND;TZID=UTC:20251204T180000
DTSTAMP:20260423T234701
CREATED:20251204T045931Z
LAST-MODIFIED:20251212T083418Z
UID:3647-1764871200-1764871200@www.mountcain.com
SUMMARY:'Na̱mg̱is Cabin Bookings Open
DESCRIPTION:‘Na̱mg̱is Papiḵa̱ła̱n Community Cabin bookings open at 6pm
URL:https://www.mountcain.com/event/na%cc%b1mg%cc%b1is-cabin-bookings-open/
END:VEVENT
END:VCALENDAR